BEGIN:VCALENDAR
VERSION:2.0
PRODID:-//Skiclub Rottenburg e.V. - ECPv6.15.20//NONSGML v1.0//EN
CALSCALE:GREGORIAN
METHOD:PUBLISH
X-ORIGINAL-URL:https://www.skiclub-rol.de
X-WR-CALDESC:Veranstaltungen für Skiclub Rottenburg e.V.
REFRESH-INTERVAL;VALUE=DURATION:PT1H
X-Robots-Tag:noindex
X-PUBLISHED-TTL:PT1H
BEGIN:VTIMEZONE
TZID:Europe/Berlin
BEGIN:DAYLIGHT
TZOFFSETFROM:+0100
TZOFFSETTO:+0200
TZNAME:CEST
DTSTART:20240331T010000
END:DAYLIGHT
BEGIN:STANDARD
TZOFFSETFROM:+0200
TZOFFSETTO:+0100
TZNAME:CET
DTSTART:20241027T010000
END:STANDARD
BEGIN:DAYLIGHT
TZOFFSETFROM:+0100
TZOFFSETTO:+0200
TZNAME:CEST
DTSTART:20250330T010000
END:DAYLIGHT
BEGIN:STANDARD
TZOFFSETFROM:+0200
TZOFFSETTO:+0100
TZNAME:CET
DTSTART:20251026T010000
END:STANDARD
BEGIN:DAYLIGHT
TZOFFSETFROM:+0100
TZOFFSETTO:+0200
TZNAME:CEST
DTSTART:20260329T010000
END:DAYLIGHT
BEGIN:STANDARD
TZOFFSETFROM:+0200
TZOFFSETTO:+0100
TZNAME:CET
DTSTART:20261025T010000
END:STANDARD
END:VTIMEZONE
BEGIN:VEVENT
DTSTART;TZID=Europe/Berlin:20250518T083000
DTEND;TZID=Europe/Berlin:20250518T170000
DTSTAMP:20260422T043435
CREATED:20190616T194823Z
LAST-MODIFIED:20250505T201303Z
UID:10000390-1747557000-1747587600@www.skiclub-rol.de
SUMMARY:MTB Tour 1 - Windradtour
DESCRIPTION:Die erste Mountainbike Tour wird am Sonntag den 18. Mai durchgeführt und führt „Entlang der heimischen Windräder“ . Gestartet – mit ausreichend Getränken versorgt – wird um 08.30 Uhr am Tennisheim. \nAuf Wald- und Wiesenwegen geht es Richtung Schmatzhausen\, vorbei dann an den Windrädern bei Egg nach Unterneuhausen und auf dem Further Höhenweg nach Gstaudach mit einer Einkehr im Biergarten. Gestärkt und erholt führt die Route vorbei an den Windrädern bei Oberwaltenkofen und Wachlkofen. Über Hohenthann geht`s dann zurück nach Rottenburg. Die Tour hat ca. 60 km und 600 Höhenmeter. \nAbfahrt ist um 08.30 Uhr am Tennisheim in Rottenburg. Rückkehr gegen 16.30 Uhr. \nAnmeldung: Die Anmeldung erfolgt auf der Homepage über den IC-Kalender. Bei Fragen bitte an Wolfgang Kroiss wenden: mountainbike@skiclub-rol.de oder 017696623184
URL:https://www.skiclub-rol.de/event/mountainbike-tour-1-windradtour/
LOCATION:Tennisheim Rottenburg\, Volksbadstraße 39\, Rottenburg\, Bayern\, 84056\, Deutschland
CATEGORIES:Mountainbike
ATTACH;FMTTYPE=image/jpeg:https://www.skiclub-rol.de/wp-content/uploads/2019/04/mountainbike-rottenburg-1.jpg
END:VEVENT
END:VCALENDAR